BEGIN:VCALENDAR
VERSION:2.0
PRODID:-//Sommer in Hamburg Blog - ECPv6.15.20//NONSGML v1.0//EN
CALSCALE:GREGORIAN
METHOD:PUBLISH
X-ORIGINAL-URL:https://sommer-in-hamburg.de
X-WR-CALDESC:Veranstaltungen für Sommer in Hamburg Blog
REFRESH-INTERVAL;VALUE=DURATION:PT1H
X-Robots-Tag:noindex
X-PUBLISHED-TTL:PT1H
BEGIN:VTIMEZONE
TZID:Europe/Berlin
BEGIN:DAYLIGHT
TZOFFSETFROM:+0100
TZOFFSETTO:+0200
TZNAME:CEST
DTSTART:20250330T010000
END:DAYLIGHT
BEGIN:STANDARD
TZOFFSETFROM:+0200
TZOFFSETTO:+0100
TZNAME:CET
DTSTART:20251026T010000
END:STANDARD
BEGIN:DAYLIGHT
TZOFFSETFROM:+0100
TZOFFSETTO:+0200
TZNAME:CEST
DTSTART:20260329T010000
END:DAYLIGHT
BEGIN:STANDARD
TZOFFSETFROM:+0200
TZOFFSETTO:+0100
TZNAME:CET
DTSTART:20261025T010000
END:STANDARD
BEGIN:DAYLIGHT
TZOFFSETFROM:+0100
TZOFFSETTO:+0200
TZNAME:CEST
DTSTART:20270328T010000
END:DAYLIGHT
BEGIN:STANDARD
TZOFFSETFROM:+0200
TZOFFSETTO:+0100
TZNAME:CET
DTSTART:20271031T010000
END:STANDARD
END:VTIMEZONE
BEGIN:VEVENT
DTSTART;TZID=Europe/Berlin:20260423T210000
DTEND;TZID=Europe/Berlin:20260426T233000
DTSTAMP:20260425T161504
CREATED:20260422T103517Z
LAST-MODIFIED:20260422T103517Z
UID:70969-1776978000-1777246200@sommer-in-hamburg.de
SUMMARY:Garageville Festival 2026
DESCRIPTION:Garageville – Das Wochenende 2026!Hamburgs 13. internationales Beat- und Garage-Punk-Festival \n\n\n\n\n\nBands Garageville Festival 2026\n\n\n\nThe Beet Freaks (SE) / The Sound Reasons (US) / The Courettes (DK/BR) / Sux Sux Sux (AT) / The Len Price 3 (UK) / The Staggers (AT) \n\n\n\nAlle Tickets findest du hier:https://lnk.bio/garageville \n\n\n\n\n \n\n\n\n\nGarageville Bootstour:Das Ticket ist nicht im Wochenendticket enthalten. Ein separates Ticket ist erforderlich.Hinweis: Der Vorverkauf für die Bootstour startet am 02.01.2026 um 12 Uhr.Update: Die Bootstour ist ausverkauft! \n\n\n\nGarageville Festival 2026 Programm\n\n\n\nDonnerstag\, 23.04.2026Garageville Warm-up PartyKomet Musik BarErichstraße 1121 Uhr – freier EintrittDJs: Cori\, Mor-Lok & Mynd’s Gardenwww.komet-st-pauli.de \n\n\n\nFreitag\, 24.04.2026MolotowReeperbahn 13620 Uhr Einlass21 Uhr The Beet Freaks (SE)22 Uhr The Sound Reasons (US)23 Uhr The Courettes (BR/DK) \n\n\n\nSamstag\, 25.04.2026MolotowReeperbahn 13620 Uhr Einlass21 Uhr Sux Sux Sux (AT)22 Uhr The Len Price 3 (UK)23 Uhr The Staggers (AT) \n\n\n\nSonntag\, 26.04.2026Garageville BootstourMS HediLandungsbrücke 1016–19 UhrEine Fahrt durch den Hamburger Hafen mit den Garageville Festival DJshttps://frauhedi.de/ \n\n\n\nAfterboat-PartyKomet Musik BarErichstraße 1119 Uhr – open endGarageville Festival DJswww.komet-st-pauli.de \n\n\n\nGarageville Festival DJs:The Carrionettes (ES/D)Beat Becker (Garageville)Fuzzy Trips (Garageville)Face B (Köln)Lutz Soundflat (Mönchengladbach) \n\n\n\nUnterstützt von Jever Live
URL:https://sommer-in-hamburg.de/event/garageville-festival-2026/
LOCATION:Molotow\, Reeperbahn 136\, Hamburg\, 20359\, Germany
CATEGORIES:Festival
ATTACH;FMTTYPE=image/jpeg:https://sommer-in-hamburg.de/wp-content/uploads/2026/04/garageville-festival-2026.jpg
END:VEVENT
BEGIN:VEVENT
DTSTART;TZID=Europe/Berlin:20260424T000000
DTEND;TZID=Europe/Berlin:20260426T235959
DTSTAMP:20260425T161504
CREATED:20260422T111409Z
LAST-MODIFIED:20260422T111410Z
UID:71012-1776988800-1777247999@sommer-in-hamburg.de
SUMMARY:Nordklang Kammerchor-Festival 2026
DESCRIPTION:Vom 24. bis 26. April 2026 wird Hamburg wieder zum Treffpunkt der Kammerchorszene: Das Nordklang Kammerchor-Festival geht in die dritte Runde und bringt Chöre\, Sänger:innen\, Chorleiter:innen und Publikum zu drei Tagen voller Chormusik\, Begegnung und Inspiration zusammen. \n\n\n\nDen Auftakt bildet das Eröffnungskonzert in der Laeiszhalle mit Hamburger Kammerchören und Vokalensembles\, die ein vielseitiges Programm von Renaissance bis Gegenwart präsentieren. An den Folgetagen folgen Begegnungskonzerte\, Workshops und ein Meisterkurs\, bevor das Festival am 26. April mit einer offenen Abschlussveranstaltung gemeinsam ausklingt. \n\n\n\nNordklang versteht sich als Plattform für Austausch\, künstlerische Impulse und das gemeinsame Erleben von Chormusik in all ihren Facetten. Wer Hamburger Chorkultur in ihrer ganzen Vielfalt erleben möchte\, solltet ihr dieses Wochenende nicht verpassen. \n\n\n\nNeuer Kammerchor Hamburg(Leitung: Lukas Marhenke) \n\n\n\nMädchenchor Hamburg(Leitung: Gesa Werhahn) \n\n\n\nCantaloop(Leitung: Christoph Gerl) \n\n\n\nVokalensemble conSonanz(Leitung: Norbert Hoppermann) \n\n\n\nLandesjugendchor Hamburg(Leitung: Cornelius Trantow) \n\n\n\nNDR Vokalensemble(Leitung: Klaas Stok)
URL:https://sommer-in-hamburg.de/event/nordklang-kammerchor-festival-2026/
LOCATION:Laeiszhalle\, Johannes-Brahms-Platz\, Hamburg\, 20355\, Germany
CATEGORIES:Festival
ATTACH;FMTTYPE=image/jpeg:https://sommer-in-hamburg.de/wp-content/uploads/2026/04/nordklang-chorfestival.jpg
END:VEVENT
BEGIN:VEVENT
DTSTART;TZID=Europe/Berlin:20260424T000000
DTEND;TZID=Europe/Berlin:20260426T235959
DTSTAMP:20260425T161504
CREATED:20260422T112600Z
LAST-MODIFIED:20260424T082726Z
UID:68627-1776988800-1777247999@sommer-in-hamburg.de
SUMMARY:Flohmärkte in Hamburg am Wochenende 25./26. April 2026
DESCRIPTION:Schnäppchenjäger aufgepasst! Am ersten Augustwochenende verwandelt sich Hamburg wieder in ein Paradies für Trödelfans\, Vintage-Liebhaber und alle\, die das besondere Stück suchen. Ob du früh aufstehst oder lieber ausschläfst – an diesem Samstag und Sonntag sind für jede:n die passenden Flohmärkte in Hamburg am Wochenende dabei. \n\n\n\nAlle Flohmärkte in Hamburg am Samstag\, 25. April 2026\n\n\n\nFlohschanze\n\n\n\nJeden Samstag Hamburgs regelmäßig einer der größten Flohmärkte in Hamburg im wahren Herzen der Stadt (St. Pauli\, Karoviertel\, Schanze\, Eimsbüttel\, Altona). \n\n\n\nWann: Samstag von 10 bis 16.00 UhrWo: Neuer Kamp 30\, 20357 Hamburg \n\n\n\nSchallplattenbörse Hamburg\n\n\n\nDas Hamburg-Haus wird zur Schatzkammer für Musikschätze aller Art. Tauche ein in eine Welt voller Vinyl\, CDs\, DVDs und Merchandise. Wir haben über 30 Händler aus dem In- und Ausland vor Ort\, die ihre Schätze präsentieren. Von seltenen Raritäten bis hin zu bezahlbaren Schätzen für kleines Geld (schon ab 0\,50 Cent gibt es LPs und CDs)\, es ist für jeden Geldbeutel und Musikgeschmack etwas dabei. Eintritt 5\,- Euro\, Kinder frei. \n\n\n\nWann: Samstag von 12 bis 16.00 UhrWo: Hamburg-Haus\, Schulweg 41\, 20259 Hamburg \n\n\n\nKleidertauschmarkt – Nachhaltigkeit für Groß und Klein\n\n\n\nTauschen statt Kaufen! Bringen Sie\, bis zu 10 gut erhaltene Kleidungsstücke mit. Jede Größe und jeder Stil sind willkommen. Aus dem so entstehenden Fundus können dann alle Gäste von 13 bis 17 Uhr neue Lieblingsteile entdecken\, anprobieren und mitnehmen. Die Teilnahme am Kleidertauschmarkt ist kostenfrei und erfordert keine Anmeldung. Eine Spende ist willkommen. Keine Anmeldung erforderlich! \n\n\n\nFür eine entspannte Pause steht das Restaurant Hobenköök bereit. Entdecken Sie zudem unsere Hühner und Schafe und genießen Sie einen Spaziergang durch den Bauerngarten. \n\n\n\nTauschregeln:– Nur Kleidung (Baby/Kinder/Erwachsene)– Keine Schuhe– Ausschließlich saubere und intakte Kleidung– Maximal 10 Teile pro Person \n\n\n\nWann: Samstag von 12 bis 15.00 UhrWo: Gut Karlshöhe\, Karlshöhe 60D\, 22175 Hamburg \n\n\n\nSpieleNarr Flohmarkt\n\n\n\nEchte Raritäten\, längst vergessene Lieblingsstücke und natürlich auch spannende Schnäppchen\, die nur darauf warten\, von euch entdeckt zu werden. Es warten ca. 200+ Spiele auf einen neuen Besitzer! \n\n\n\nWann: Samstag von 11 bis 18.00 UhrWo: Der SpieleNarr\, Sievekingdamm 42A\, 20535 Hamburg \n\n\n\nFlohmarkt in La Catalana\n\n\n\nMehrere Mädels verkaufen ihre Kleidung und Gegenstände\, um ihnen ein zweites Leben zu geben!Du wirst sicher etwas Einzigartiges finden … und das zu tollen Preisen! Außerdem kannst du genießen: Frisch zubereitete Paella Leckere Tapas Unwiderstehliche Desserts \n\n\n\nWann: Samstag von 10 bis 14.30 UhrWo: La Catalana\, Holstenstraße 200\, 22765 Hamburg \n\n\n\nLangschläfer Flohmarkt Überseeboulevard\n\n\n\nAn vier letzten Samstagen von April bis Juni und im September heißt es dieses Jahr wieder handeln\, feilschen und Schnäppchen schlagen auf dem Überseeboulevard. Der Flohmarkt für Langschläfer und ausgeschlafene ist seit über 10 Jahren das Highlight in der HafenCity. Verabrede dich mit deinen Liebsten zum Bummeln und Schlender in der HafenCity. \n\n\n\nWann: Samstag von 11 bis 16.00 UhrWo: Überseeboulevard\, Überseeallee\, 20457 Hamburg \n\n\n\nAlle Flohmärkte am Sonntag\, 26. April 2026\n\n\n\nFlohmarkt im Hohenzollernring\n\n\n\n\n\n\n\nWann: Sonntag von 10 bis 16.00 UhrWo: Hohenzollernring\, 22765 Hamburg \n\n\n\nFrühlings-Hallenflohmarkt & Aktionstag im ASB-Dorf Hamburg- Sülldorf\n\n\n\nNeben dem Flohmarkt könnt ihr beim Aktionstag das ASB-Dorf kennenlernen – mit Führungen\, Mitmachaktionen\, Tombola für Kinder und kleinen Leckereien. \n\n\n\n\nEintritt frei\n\n\n\nKaffee & Kuchen\n\n\n\nBratwurst & Waffeln\n\n\n\nKinderkino\n\n\n\nTombola & Aktionen\n\n\n\nASB-Dorf entdecken\n\n\n\n\nWann: Sonntag von 10 bis 15.00 UhrWo: ASB Ortsverband Hamburg-Mitte e.V.\, Suurheid 20\, 22559 Hamburg \n\n\n\nLOLA Frauenflohmarkt\n\n\n\nEs gibt wieder einen Flohmarkt für Frauenkleidung in der LOLA. Drei Stunden lang können die Besucherinnen in angenehmer Atmosphäre stöbern. Ein Anproberaum mit Spiegel ist vorhanden.Die LOLA Bar hat geöffnet. \n\n\n\nWann: Sonntag von 13 bis 16.00 UhrWo: Lola\, Lohbrügger Landstraße 8\, 21031 Hamburg \n\n\n\n\n\n\n\nDie Veranstaltungstipps erheben keinen Anspruch auf VollständigkeitALLE ANGABEN OHNE GEWÄHR
URL:https://sommer-in-hamburg.de/event/flohmaerkte-in-hh-am-wochenende/
CATEGORIES:Flohmarkt
ATTACH;FMTTYPE=image/jpeg:https://sommer-in-hamburg.de/wp-content/uploads/2025/07/flohmarkt-in-hamburg.jpg
END:VEVENT
BEGIN:VEVENT
DTSTART;TZID=Europe/Berlin:20260424T150000
DTEND;TZID=Europe/Berlin:20260426T190000
DTSTAMP:20260425T161504
CREATED:20260422T110826Z
LAST-MODIFIED:20260422T110826Z
UID:71005-1777042800-1777230000@sommer-in-hamburg.de
SUMMARY:Frühlingsmarkt am Teudelberg
DESCRIPTION:Frühlingszauber und Genussmomente auf dem Treudelberg! \n\n\n\nMit einem Oster- und Frühlingsmarkt startet auf Treudelberg erstmals eine Veranstaltung\, die den Frühling in entspannter\, genussvoller Atmosphäre erlebbar macht. Besucherinnen und Besucher erwartet eine Kombination aus Kulinarik\, Musik und familienfreundlichen Angeboten. \n\n\n\nÖffnungszeiten:Freitag und Samstag: 15:00 bis 21:00 UhrSonn- und Feiertage: 13:00 bis 19:00 Uhr \n\n\n\nFür die musikalische Begleitung sorgt ein wechselndes Programm:An den Freitagen\, 17. und 24. April\, tritt Inusa jeweils von 18:00 bis 21:00 Uhr live auf.An den Samstagen übernimmt DJ Max zur gleichen Zeit mit entspannten Beats. \n\n\n\nAuch für Kinder wird einiges geboten. Eine Hüpfburgrutsche\, ein Kettenkarussell\, ein großzügiger Sandbereich sowie verschiedene Fahrzeuge laden zum Spielen und Ausprobieren ein. Ein zentrales Highlight ist die Ostereiersuche am Ostersonntag und Ostermontag\, jeweils um 15:00 Uhr. \n\n\n\nEin thematisch gestalteter Selfie-Point bietet zudem die Möglichkeit\, besondere Momente festzuhalten. \n\n\n\nFür einen möglichst unkomplizierten Besuch stehen kostenfreie Parkmöglichkeiten zur Verfügung. Diese können durch das Scannen der QR-Codes an den Marktständen genutzt werden.
URL:https://sommer-in-hamburg.de/event/fruehlingsmarkt-am-teudelberg-2026/
LOCATION:Treudelberg Resort Hamburg\, Lemsahler Landstraße 45\, Hamburg\, 22397\, Germany
CATEGORIES:Märkte
ATTACH;FMTTYPE=image/jpeg:https://sommer-in-hamburg.de/wp-content/uploads/2026/04/fruehlingsblumen.jpg
END:VEVENT
BEGIN:VEVENT
DTSTART;TZID=Europe/Berlin:20260425T210000
DTEND;TZID=Europe/Berlin:20260426T060000
DTSTAMP:20260425T161504
CREATED:20260422T104734Z
LAST-MODIFIED:20260422T104735Z
UID:70982-1777150800-1777183200@sommer-in-hamburg.de
SUMMARY:Outside World Festival im Edelfettwerk
DESCRIPTION:Outside World Festival – Hamburgpräsentiert „Our World“ … unsere Welt aus verschiedenen klassischen Stilrichtungen \n\n\n\nAb dem kommenden Jahr gibt es einige Veränderungen beim Outside World Festival. \n\n\n\nVier Areas – vier StylesErstmals wird das Line-up konsequent an die jeweiligen Styles und Areas angepasst. \n\n\n\nIm Einzelnen erwarten dich im Edelfettwerk:Main StageHardtrance-Classics-StageTrance-Classics-StageHandsUp-Stage \n\n\n\nDie große Line-up-Phase findest du auf dem Banner. \n\n\n\nBlind Tickets – ausverkauftEarly-Bird-Tickets – ausverkauftFestival-Tickets – jetzt online verfügbar
URL:https://sommer-in-hamburg.de/event/outside-world-festival-im-edelfettwerk/
LOCATION:Edelfettwerk\, Schnackenburgallee 202\, Hamburg\, 22525\, Germany
CATEGORIES:Festival,Party
ATTACH;FMTTYPE=image/jpeg:https://sommer-in-hamburg.de/wp-content/uploads/2026/04/outside-world-festival.jpg
END:VEVENT
BEGIN:VEVENT
DTSTART;TZID=Europe/Berlin:20260425T230000
DTEND;TZID=Europe/Berlin:20260426T070000
DTSTAMP:20260425T161504
CREATED:20260422T102227Z
LAST-MODIFIED:20260422T102442Z
UID:70964-1777158000-1777186800@sommer-in-hamburg.de
SUMMARY:GHOSTSHIP auf der MS Stubnitz
DESCRIPTION:Laderaum 1: Electronix\, EBM\, Industrial\, …Laderaum 4: Alternative\, Metal\, Industrial-Rock\, …Verarbeitung: Gothic\, Wave\, Postpunk\, Minimal\, 80ies\, … \n\n\n\nDas MS STUBNITZ stellt ein weitgehend original erhaltenes Fahrzeug der Hochseefischerei der ehemaligen DDR dar\, obwohl für die heutige Nutzung entscheidende Bereiche des Schiffes baulich verändert werden mussten. Weitestgehend original erhalten sind die elektromechanische Maschinenanlage und ihre Gleichstromtechnik\, die Kommandobrücke mit Funk- und Kartenraum\, die Wohn- und Sozialbereiche wie Kammern\, Kombüse\, O-Messe\, sowie das bordeigene Hospital. Das ehemalige Verarbeitungsdeck und die ehemaligen Kühlladeräume sind trotz der Demontage der Verarbeitungsanlagen als Räume weitgehend im Originalzustand erhalten. Zusätzlich spiegelt der äußere Eindruck des Schiffes unverändert den Zustand des letzten Zeitraumes des Fischereieinsatzes wieder. \n\n\n\nSeit 1992 wurde das Schiff zu einer mobilen Plattform für Musik\, kulturelle Produktion\, Dokumentation und Kommunikation umgestaltet. Drei ehemalige Laderäume werden regelmäßig als Veranstaltungsräume für Live-Musik\, Ausstellungen\, Performances und Installationen genutzt. \n\n\n\n– S3/S31/U4/Bus111 – Station ElbbrückenBahnen fahren tags und nachts regelmäßig! \n\n\n\nBeginn: 23:00 UhrEintritt VVK: 10\,00 EUR + VVK GebührenEintritt AK: 14\,00 EUR (nur wenn nicht im VVK ausverkauft) \n\n\n\nTICKETS sind ab sofort in unserem Onlineshop unter: www.livingdead.de erhältlich! \n\n\n\nBitte nutzt den Vorverkauf!
URL:https://sommer-in-hamburg.de/event/ghostship-auf-der-ms-stubnitz/
LOCATION:MS Stubnitz\, MS Stubnitz\, Kirchenpauerkai 29\, Hamburg\, 20457\, Germany
CATEGORIES:Party
ATTACH;FMTTYPE=image/jpeg:https://sommer-in-hamburg.de/wp-content/uploads/2026/04/ghostship-stubnitz.jpg
END:VEVENT
BEGIN:VEVENT
DTSTART;TZID=Europe/Berlin:20260426T080000
DTEND;TZID=Europe/Berlin:20260426T160000
DTSTAMP:20260425T161504
CREATED:20260422T115523Z
LAST-MODIFIED:20260422T115524Z
UID:67148-1777190400-1777219200@sommer-in-hamburg.de
SUMMARY:Haspa Marathon Hamburg 2026: Lauf die blaue Linie!
DESCRIPTION:Der Haspa Marathon Hamburg 2026 feiert sein 40-jähriges Jubiläum als größtes Frühjahrsmarathon-Event Deutschlands. Am 26. April 2026 durchqueren Tausende Läufer die pulsierende Hansestadt – eine unvergessliche Reise entlang Elbe\, Alster und Hafen. Bereit für Adrenalin\, Community und Meilensteine? Werde Teil der blauen Welle! \n\n\n\nDas ultimative Lauf-Fest in Hamburg\n\n\n\nDer Haspa Marathon Hamburg 2026 ist mehr als ein Rennen – es ist ein Stadt-Happening\, das Hamburg in Blau taucht. Seit Jahrzehnten lockt das Event mit seiner flachen\, schnellen Strecke und der elektrisierenden Atmosphäre Tausende Teilnehmer an. 2026 steht das Jubiläum im Mittelpunkt: 40 Jahre pure Laufleidenschaft! Die Anmeldung war sensationell – bereits ausverkauft mit über 20.000 Startern im Marathon und Halbmarathon. Profi-Läufer jagen Rekorde\, Amateure feiern persönliche Bestzeiten\, und Genussläufer genießen die Vibes. Hamburgs Straßen verwandeln sich in eine Partyzone\, mit Live-Musik\, jubelnden Zuschauern und dem Duft von Bratwurst und Bananen an den Verpflegungsstationen. \n\n\n\nDie ikonische Strecke: Blau durch die Metropole\n\n\n\nStarte am Heiligengeistfeld und folge der berühmten blauen Linie über 42\,195 Kilometer. Die Route des Haspa Marathon Hamburg 2026 führt durch Hamburgs Highlights: Über breite Boulevards in Altona\, entlang der malerischen Elbphilharmonie\, vorbei am Fischmarkt und durch den Hafen mit seinen imposanten Kränen. Die Alster glitzert im Sonnenlicht\, während du die Reeperbahn überwindest – ja\, sogar die legendäre Straße wird zur Laufstrecke! Die Strecke ist bekannt für ihre Geschwindigkeit: Weltrekorde wurden hier aufgestellt\, dank minimaler Steigungen und perfekter Asphaltqualität. Halbmarathon-Läufer (21\,1 km) genießen eine kürzere Variante mit ähnlichen Highlights\, ideal für Einsteiger oder Schnelläufer. \n\n\n\nHighlights und besondere Features\n\n\n\nDieses Jahr punkten Extra-Attraktionen beim Haspa Marathon Hamburg 2026: Die Jubiläums-Edition bringt VIP-Zonen\, exklusive Finisher-Medailen und Throwback-Momente mit Foto-Stationen zu vergangenen Events. Kinder- und Firmenläufe ergänzen das Programm\, sodass Familien und Teams mitmachen können. Nachhaltigkeit steht im Fokus: Zero-Waste-Verpflegung\, E-Busse für Shuttle-Services und Partnerschaften mit Umweltorganisationen wie WWF. Die Marathon-App trackt deine Pace live\, teilt Social-Media-Momente und verbindet dich mit der globalen Lauf-Community. Und nicht zu vergessen: Das Wetter im April – mild\, sonnig\, perfekt für einen Run! \n\n\n\nTrainingstipps für deinen Erfolg\n\n\n\nVorbereitung macht den Unterschied. Starte vier Monate im Voraus mit einem Mix aus langen Läufen\, Intervalltraining und Kraftübungen. Integriere Atemtechniken – atme tief in den Bauch\, um Ausdauer zu boosten und Panik zu vermeiden. Dehnung und Sauna-Recovery halten dich fit. Hamburgs Parks wie Planten un Blomen eignen sich ideal für Testläufe. Ernähre dich proteinreich\, teste Gels an Trainingstagen. Mentale Stärke trainierst du mit Visualisierungen: Stelle dir das Finish am Rathausmarkt vor\, umgeben von 15.000 Zuschauern! \n\n\n\nDein Ticket zur Lauf-Legende\n\n\n\nSei dabei\, wenn Hamburg rennt! Ob als Läufer\, Zuschauer oder Volunteer – der Haspa Marathon 2026 verbindet Menschen. Melde dich für Warte-Listen oder Nebenrennen zum Haspa Marathon Hamburg 2026\, falls du es verpasst hast. Teile deine Story in den Socials mit #HaspaMarathon2026 und inspiriere andere. Das ist nicht nur ein Marathon\, das ist dein Moment der Stärke. Hamburg wartet – lauf die blaue Linie und werde unvergessen! \n\n\n\nSTART: Karolinenstraße/Ecke Lagerstraße\, 20357 HamburgMehr Infos: www.haspa-marathon-hamburg.de
URL:https://sommer-in-hamburg.de/event/haspa-marathon-hamburg-2026/
LOCATION:Kosmos Karoline\, Karolinenstraße 45\, Hamburg\, 20357\, Germany
CATEGORIES:Marathon,Sport
ATTACH;FMTTYPE=image/jpeg:https://sommer-in-hamburg.de/wp-content/uploads/2025/04/haspa-marathon-hamburg.jpg
END:VEVENT
BEGIN:VEVENT
DTSTART;TZID=Europe/Berlin:20260426T100000
DTEND;TZID=Europe/Berlin:20260426T180000
DTSTAMP:20260425T161504
CREATED:20260422T111449Z
LAST-MODIFIED:20260422T111449Z
UID:66874-1777197600-1777226400@sommer-in-hamburg.de
SUMMARY:Lebensfreude Frühjahrsmesse Hamburg 2026
DESCRIPTION:Die Lebensfreude Messe Hamburg blickt 2026 auf 40 Jahre Geschichte zurück. Was einst als kleine Messe für ganzheitliche Themen begann\, hat sich zu einer etablierten Veranstaltung für Gesundheit\, Achtsamkeit und persönliche Entwicklung entwickelt. \n\n\n\nEine zentrale Rolle in dieser Entwicklung spielt Britta Gerdes. Sie war 1997 zunächst selbst als Ausstellerin auf der Messe vertreten\, arbeitete später freiberuflich für die Veranstaltung und übernahm sie schließlich 1999. Seitdem hat sie die Messe inhaltlich und organisatorisch weiterentwickelt. \n\n\n\nVom Nischenthema zur Messe\n\n\n\nMit der Übernahme begann eine neue Phase. Aus einer Messe für ein vergleichsweise kleines Publikum wurde eine Plattform\, die heute viele Menschen anspricht\, die sich für ganzheitliche Gesundheit\, innere Balance und bewusste Lebensführung interessieren. \n\n\n\nThemen wie Achtsamkeit\, Selbstfürsorge und Spiritualität waren früher Randthemen. Heute gehören sie für viele Menschen zum Alltag und spiegeln ein wachsendes Bedürfnis nach Orientierung\, Gesundheit und Sinn wider. \n\n\n\nBritta Gerdes beschreibt die Messe als Ort\, an dem Menschen nicht nur Informationen bekommen\, sondern sich wirklich begegnen können. Genau dieser Anspruch prägt das Konzept bis heute. \n\n\n\nJubiläumsmesse in Hamburg\n\n\n\nDie Lebensfreude Frühlingsmesse Hamburg findet vom 24. bis 26. April 2026 in der Messehalle Hamburg-Schnelsen statt. Geplant sind mehr als 100 Ausstellerinnen und Aussteller\, dazu Vorträge\, Workshops und Talkrunden. \n\n\n\nZu den Gästen gehören unter anderem Dr. Rüdiger Dahlke\, Dr. Silja Schäfer aus den NDR Ernährungsdocs sowie Walter Lübeck\, der als Begründer des Rainbow Reiki bekannt ist. Auf der Trendbühne sollen Fragen nach Intuition\, Heilung und innerer Stärke aufgegriffen werden. \n\n\n\nDie Messe versteht sich nicht nur als Event\, sondern als Einladung zu Reflexion und Entwicklung. Gerade in herausfordernden Zeiten will sie Impulse geben\, die Menschen im Alltag stärken und neue Perspektiven eröffnen. \n\n\n\nLebensfreude Frühjahrsmesse und Eintritt\n\n\n\nDie Messehalle Hamburg-Schnelsen liegt am Modering 1a in 22457 Hamburg. Die Öffnungszeiten sind an allen drei Tagen von 10 bis 18 Uhr. \n\n\n\nDer Vorverkaufspreis liegt bei 11 Euro und ist nur bis zum 23. April 2026 verfügbar\, solange das Kontingent reicht. Die Tageskarte kostet 15 Euro\, ermäßigte Tickets 12 Euro und das Take-2-Ticket 19 Euro. Kinder unter 14 Jahren haben in Begleitung eines Erwachsenen freien Eintritt.
URL:https://sommer-in-hamburg.de/event/lebensfreude-fruehlingsmesse-2026/
LOCATION:Messehalle Hamburg-Schnelsen\, Modering 1a\, Hamburg\, 22457\, Germany
CATEGORIES:Messe
ATTACH;FMTTYPE=image/jpeg:https://sommer-in-hamburg.de/wp-content/uploads/2025/03/lebensfreude-messe.jpg
END:VEVENT
BEGIN:VEVENT
DTSTART;TZID=Europe/Berlin:20260426T120000
DTEND;TZID=Europe/Berlin:20260426T210000
DTSTAMP:20260425T161504
CREATED:20260422T101741Z
LAST-MODIFIED:20260422T102337Z
UID:70957-1777204800-1777237200@sommer-in-hamburg.de
SUMMARY:African Food Festival - ROOTS in the Park
DESCRIPTION:Roots in the Park – African Food Festival. \n\n\n\nSeit 2023 veranstalten Roots Entertainment gemeinsam mit dem Schrødingers Hamburg das African Food Festival – Roots in the Park  \n\n\n\nWas als Idee begann\, ist heute ein fester Treffpunkt für Kultur\, Essen\, Musik und Community  \n\n\n\n African & Vegan Food Live DJs & Music Live Cooking Fashion & Art Market Kids Area \n\n\n\n Künstler\, Food- & Fashion-Stände können sich ab sofort bei uns melden! \n\n\n\n Tickets unter: rootshamburg.de \n\n\n\n Schrødingers Hamburg Sonntag\, 26.04.2026 12:00 – 21:00 Uhr Eintritt: 5 € | Kinder unter 12 frei \n\n\n\nCulture • Music • Food • Community
URL:https://sommer-in-hamburg.de/event/african-food-festival-april-2026/
LOCATION:Schroedingers im Schanzenpark\, Schröderstiftstraße 7\, Hamburg\, 20146\, Germany
CATEGORIES:Festival
ATTACH;FMTTYPE=image/jpeg:https://sommer-in-hamburg.de/wp-content/uploads/2026/04/african-food-festival.jpg
END:VEVENT
BEGIN:VEVENT
DTSTART;TZID=Europe/Berlin:20260426T140000
DTEND;TZID=Europe/Berlin:20260426T160000
DTSTAMP:20260425T161504
CREATED:20260422T100832Z
LAST-MODIFIED:20260422T100859Z
UID:70945-1777212000-1777219200@sommer-in-hamburg.de
SUMMARY:Führung im Ohlsdorfer Friedhof: Die Pracht der Mausoleen
DESCRIPTION:Die Mausoleen auf dem Friedhof zeigen einen spannenden Querschnitt vom repräsentativen Grabgebäude bis zum „lost place“. Wir gehen der Faszination dieser prachtvollen oberirdischen Begräbnisstätten nach und besichtigen dabei auch das Innere des Mausoleums Riedemann. \n\n\n\nDie Teilnahme ist nur zu Fuß möglich.Dauer: etwa 2 StundenTreffpunkt: Museum Friedhof OhlsdorfKosten: 10 €Die Anzahl der Teilnehmenden ist begrenzt; eine Reservierung ist leider nicht möglich.
URL:https://sommer-in-hamburg.de/event/die-pracht-der-mausoleen-ohlsdorf/
LOCATION:Friedhof Ohlsdorf\, Fuhlsbüttler Strasse 756\, Hamburg\, 22337\, Germany
CATEGORIES:Führung
ATTACH;FMTTYPE=image/jpeg:https://sommer-in-hamburg.de/wp-content/uploads/2026/04/mausoleum-friedhof-ohlsdorf.jpg
END:VEVENT
BEGIN:VEVENT
DTSTART;TZID=Europe/Berlin:20260426T180000
DTEND;TZID=Europe/Berlin:20260426T233000
DTSTAMP:20260425T161504
CREATED:20260422T104145Z
LAST-MODIFIED:20260422T104145Z
UID:70977-1777226400-1777246200@sommer-in-hamburg.de
SUMMARY:Vaisakhi Neujahrsfest im Bürgerhaus Bornheide
DESCRIPTION:Feiern Sie Vaisakhi in Hamburg! \n\n\n\nDas Hanseatic India Forum veranstaltet ein lebhaftes Vaisakhi-Neujahrsfest\, und wir freuen uns riesig\, dabei zu sein! \n\n\n\nAls euer Hamburger-Duo\, Sumit – Chalte Chalte und Smita Bhattacharya\, werden wir auf der Bühne stehen und eine bewegende Auswahl an Geet und Ghazal zum Besten geben. Wir würden uns sehr freuen\, wenn ihr dabei seid\, um gemeinsam mit uns in die reichen musikalischen Traditionen Indiens einzutauchen\, während wir die Freude über die Ernte und das neue Jahr feiern.Es wird ein Abend voller wunderschöner Musik\, Kultur und Gemeinschaft – mit weiteren unglaublichen KünstlerVeranstaltungsort: Bürgerhaus Bornheide\, Bürgersaal (Bornheide 76\, 22549 Hamburg)Der Eintritt ist völlig KOSTENLOS! Eine Anmeldung ist jedoch erforderlich. Bitte sichert euch euren Platz\, indem ihr die Anzahl der Personen in eurer Gruppe per E-Mail an vorstand@hif-hamburg.de schickt.Bonus: Bleibt nach den Auftritten noch ein wenig da\, denn es gibt köstliches indisches Essen zu kaufen\, um den Abend perfekt abzurunden! (Hinweis: Parkplätze stehen vor dem Gebäude zur Verfügung).Wir können es kaum erwarten\, unsere Musik mit euch zu teilen und mit euch zu feiern. Wir sehen uns dort!
URL:https://sommer-in-hamburg.de/event/vaisakhi-neujahrsfest-2026/
LOCATION:Bürgerhaus Bornheide\, Bornheide 76\, Hamburg\, 22549\, Germany
CATEGORIES:Happening
ATTACH;FMTTYPE=image/jpeg:https://sommer-in-hamburg.de/wp-content/uploads/2026/04/vaisakhi-neujahrsfest-hamburg.jpg
END:VEVENT
END:VCALENDAR