BEGIN:VCALENDAR
VERSION:2.0
PRODID:-//Sommer in Hamburg Blog - ECPv6.15.20//NONSGML v1.0//EN
CALSCALE:GREGORIAN
METHOD:PUBLISH
X-WR-CALNAME:Sommer in Hamburg Blog
X-ORIGINAL-URL:https://sommer-in-hamburg.de
X-WR-CALDESC:Veranstaltungen für Sommer in Hamburg Blog
REFRESH-INTERVAL;VALUE=DURATION:PT1H
X-Robots-Tag:noindex
X-PUBLISHED-TTL:PT1H
BEGIN:VTIMEZONE
TZID:Europe/Berlin
BEGIN:DAYLIGHT
TZOFFSETFROM:+0100
TZOFFSETTO:+0200
TZNAME:CEST
DTSTART:20250330T010000
END:DAYLIGHT
BEGIN:STANDARD
TZOFFSETFROM:+0200
TZOFFSETTO:+0100
TZNAME:CET
DTSTART:20251026T010000
END:STANDARD
BEGIN:DAYLIGHT
TZOFFSETFROM:+0100
TZOFFSETTO:+0200
TZNAME:CEST
DTSTART:20260329T010000
END:DAYLIGHT
BEGIN:STANDARD
TZOFFSETFROM:+0200
TZOFFSETTO:+0100
TZNAME:CET
DTSTART:20261025T010000
END:STANDARD
BEGIN:DAYLIGHT
TZOFFSETFROM:+0100
TZOFFSETTO:+0200
TZNAME:CEST
DTSTART:20270328T010000
END:DAYLIGHT
BEGIN:STANDARD
TZOFFSETFROM:+0200
TZOFFSETTO:+0100
TZNAME:CET
DTSTART:20271031T010000
END:STANDARD
END:VTIMEZONE
BEGIN:VEVENT
DTSTART;TZID=Europe/Berlin:20260320T000000
DTEND;TZID=Europe/Berlin:20260419T235959
DTSTAMP:20260419T163240
CREATED:20260413T184400Z
LAST-MODIFIED:20260415T151326Z
UID:70667-1773964800-1776643199@sommer-in-hamburg.de
SUMMARY:Frühlingsdom Hamburg 2026
DESCRIPTION:Der Frühlingsdom 2026 rückt näher – spürt ihr schon die prickelnde Vorfreude? Vom 20. März bis 19. April verwandelt sich das Heiligengeistfeld in Hamburgs pulsierendes Herz des Frühlings: ein Wirbel aus lachenden Kindern\, adrenalingeladenen Fahrgeschäften und dem unwiderstehlichen Duft von frischen Schmalzkuchen. \n\n\n\nFrühlingsdom 2026: Hamburg feiert den Frühling!\n\n\n\nStellt euch vor: Die Sonne küsst die bunten Lichter\, während über 200 Attraktionen euch in eine Welt aus purem Fahrspaß entführen. Vom sanften Karussell-Dreh mit den Kleinen bis hin zu halsbrecherischen Achterbahnen\, die euren Puls explodieren lassen – hier schlägt das Herz jedes Abenteurers höher. Am Abend taucht die Skyline in ein Meer aus Neon und Musik\, perfekt für romantisches Bummeln oder spontane Nächte mit Freunden. \n\n\n\nFamilienhighlights & Bummel-Bär\n\n\n\nJeden Mittwoch wird’s familiär: Ermäßigte Fahrten\, Snacks im Sonderpreis und der süße DOM-Bär „Bummel“\, der für Umarmungen und Selfies sorgt – solange der Regen ihn nicht in die Höhle scheucht. Ideal für eure erste Frühlingsauszeit mit den Kids! \n\n\n\nFeuerwerk-Magie am Himmel\n\n\n\nHöhepunkte? Drei atemberaubende Feuerwerke! Am \n\n\n\n\nFreitag\, 20. März 2026\, 22:30 Uhr\n\n\n\nFreitag\, 4. April 2026\, 22:30 Uhr\n\n\n\nFreitag\, 17. April 2026\, 22:30 Uhr\n\n\n\n\nexplodiert der Nachthimmel über St. Pauli in Tausenden Farben. Direkt vom Gelände aus erleben – das ist DOM-Romantik vom Feinsten! \n\n\n\nKulinarik\, Nervenkitzel und Frühlingszauber pur\n\n\n\nLasst euch von Crêpes\, Bratwurst und Zuckerwatte verführen\, während ihr zwischen Geisterbahnen und Wildwasser-Rafting plantscht. Ob Adrenalin-Junkie oder entspannter Genießer – der Frühlingsdom weckt in jedem den inneren Kindheitshelden und macht süchtig nach mehr. \n\n\n\nFrühlingsdom 2026\n\n\n\nZeitraum: 20. März bis 19. April 2026 (30 Tage)Ort: Heiligengeistfeld\, St. Pauli\, HamburgÖffnungszeiten: \n\n\n\n\nMo–Do: 15–23 Uhr\n\n\n\nFr/Sa: 15–24 Uhr\n\n\n\nSo: 14–23 Uhr\n\n\n\n\nFamilientag: Jeder Mittwoch – ermäßigte Preise bei Fahrten\, Spielen & GastronomieMaskottchen: DOM-Bär „Bummel“ (bei trockenem Wetter für Fotos & Umarmungen)Feuerwerke: Fr\, 20. März / Fr\, 4. April / Fr\, 17. April 2026 – je 22:30 Uhr (ca. 10 Min.)Attraktionen: >200 Fahr-\, Spiel- & Gastrobetriebe (Achterbahnen\, Riesenrad\, Geisterbahn\, Wildwasser\, Karussells)Kulinarik-Highlights: Schmalzkuchen\, Zuckerwatte\, Bratwurst\, Crêpes\, gebrannte Mandeln
URL:https://sommer-in-hamburg.de/event/fruehlingsdom-hamburg-2026/
LOCATION:Heiligengeistfeld\, Heiligengeistfeld\, Hamburg\, 20359\, Germany
CATEGORIES:Dom
ATTACH;FMTTYPE=image/jpeg:https://sommer-in-hamburg.de/wp-content/uploads/2026/03/fruehlingsdom-hamburg-2026.jpg
END:VEVENT
BEGIN:VEVENT
DTSTART;TZID=Europe/Berlin:20260414T000000
DTEND;TZID=Europe/Berlin:20260419T235959
DTSTAMP:20260419T163240
CREATED:20260416T095039Z
LAST-MODIFIED:20260416T095039Z
UID:70920-1776124800-1776643199@sommer-in-hamburg.de
SUMMARY:Hamburg schaut hin: Dokumentarfilmwoche 2026
DESCRIPTION:Die Dokumentarfilmwoche Hamburg 2026 ist eröffnet. Im Metropolis Kino fiel der Startschuss vor vollem Haus. Filmschaffende aus vielen Ländern waren vor Ort. Gespräche\, Begegnungen\, Reibung – genau darum geht es hier. \n\n\n\nDas Festival zeigt\, was Dokumentarfilm kann. Es ordnet nicht nur ein. Es stellt infrage. Es zieht hinein und fordert heraus. Die Macher sagen es klar: Sie suchen. Sie geben sich nicht mit einer Deutung zufrieden. \n\n\n\nKino als offener Raum\n\n\n\nFünf Tage lang läuft ein dichtes Programm. Rund 40 Filme\, dazu Gespräche\, eine Ausstellung und Sonderformate. Die Wege sind kurz. Die Themen groß. \n\n\n\nIm Fokus steht auch der japanische Regisseur Hara Kazuo. Ihm widmet das Festival eine Retrospektive – die erste in Deutschland. Seine Filme sind direkt\, politisch\, unbequem. Ein Werkstattgespräch öffnet den Blick auf seine Arbeitsweise. \n\n\n\nDaneben zeigt das Programm eine breite Mischung. Ein Film folgt einer alten Frau im leeren Haus. Ein anderer blickt in eine militarisierte Region Europas. Ein dritter erzählt von inneren Kämpfen\, von Wut\, Sehnsucht und Sprache. Nach vielen Vorführungen gibt es Gespräche mit den Regisseurinnen und Regisseuren. Das Publikum ist Teil davon. \n\n\n\nOrte\, die verbinden\n\n\n\nDie Dokumentarfilmwoche Hamburg 2026 spielt an mehreren Orten. Kinos\, Clubs\, Projekträume. Das schafft Nähe. Wer will\, bleibt den ganzen Tag. Von der ersten Vorstellung bis zur letzten Diskussion. \n\n\n\nIm Festivalzentrum frappant Galerie in der fux eG läuft parallel eine Ausstellung. Sie fragt\, wie Räume zerstört werden – und was das mit uns macht. Auch hier gilt: nichts ist glatt. Alles will gedacht werden. \n\n\n\nAbends wechselt die Stimmung. Im Clubkino laufen Filme über Musik und Szene. Danach wird getanzt. Das Festival endet nicht im Kinosaal. Es zieht weiter in die Nacht. \n\n\n\nHaltung statt Komfort\n\n\n\nDieses Festival will mehr als gefallen. Es lädt ein – aber nicht nur zu leichten Antworten. Gerade die sperrigen Filme sind Teil des Programms. Sie fordern Geduld. Und sie lohnen sich. \n\n\n\nDie Dokumentarfilmwoche Hamburg 2026 zeigt\, wie lebendig dieses Genre ist. Zwischen Experiment und großer Produktion. Zwischen lokalem Blick und internationalem Austausch. \n\n\n\nWer sich darauf einlässt\, bekommt mehr als Film. Er bekommt neue Perspektiven. Und vielleicht auch neue Fragen. \n\n\n\nEröffnungsfilm Dokumentarfilmwoche Hamburg 2026
URL:https://sommer-in-hamburg.de/event/dokumentarfilmwoche-2026/
LOCATION:frappant Galerie in der fux eG\, Zeiseweg 9\, Hamburg\, 22765\, Germany
CATEGORIES:Kino
ATTACH;FMTTYPE=image/jpeg:https://sommer-in-hamburg.de/wp-content/uploads/2026/04/dokumentarfilmwoche-hamburg.jpg
END:VEVENT
BEGIN:VEVENT
DTSTART;TZID=Europe/Berlin:20260418T180000
DTEND;TZID=Europe/Berlin:20260419T010000
DTSTAMP:20260419T163240
CREATED:20260415T144357Z
LAST-MODIFIED:20260415T150742Z
UID:70724-1776535200-1776560400@sommer-in-hamburg.de
SUMMARY:Lange Nacht der Museen Hamburg 2026: Alles\, was du wissen musst
DESCRIPTION:Am Samstag\, dem 18. April 2026\, öffnen 53 Hamburger Museen\, Ausstellungshäuser und Gedenkorte beiderseits der Elbe zur Lange Nacht der Museen Hamburg 2026 ihre Türen. Von 18 bis 1 Uhr nachts. Mit einem einzigen Ticket. Erwartet werden in diesem Jahr wieder rund 25.000 Besucher. \n\n\n\nWas dich erwartet\n\n\n\nAus über 500 Veranstaltungen können sich Besucher ihr individuelles Programm zusammenstellen. Geboten werden Kuratorenführungen\, Mitmachaktionen\, Workshops\, Lesungen\, Technikvorführungen\, Vorträge\, Tanz\, Film und vieles mehr. \n\n\n\nEin Besuch im Polizeimuseum bei der Motorradstaffel\, anschließend Mitsingen auf der Cap San Diego oder eine Rap-Session mitten in der „KATZEN!”-Ausstellung im MARKK — alles ist möglich. \n\n\n\nAusstellung im MARKK-Museum: KATZEN!\n\n\n\nWas 2026 neu ist\n\n\n\nZum ersten Mal dabei sind zwei Ausstellungsorte in der HafenCity: die Botschaft der Wildtiere und das Urbaneo\, ein junges Architekturzentrum. Auch die Wasserkunst Elbinsel Kaltehofe nimmt nach längerer Sanierungspause wieder teil. \n\n\n\nMeine Favoriten der langen Nacht der Museen\n\n\n\nAls Swingtänzer fahre ich selbstverständlich am Abend gegen 22.00 Uhr mit dem Barkassen-Shuttle vom Traditionsschiffhafen in der HafenCity rüber zum Hafenmuseum am Schuppen 51. Der dort in der Werkstatthalle des Museums tanzen wir Swing zu einer tollen Jazzband.  \n\n\n\nWenn ich aber schon mal in der HafenCity bin\, würde ich mir auch gern die Botschaft der Wildtiere anschauen – da geht es nicht nur um Hirsch und Wold und Amsel – und vorher vielleicht noch einmal eine Führung durch Millerntorstadion neben dem Hamburger Dom mitmachen. \n\n\n\nWenn ich spontan umplane\, könnte ich mir auch die Rap-Führung im MARKK-Museum vorstellen oder ich fahre um Museum der Arbeit\, um mir dort einen menschengroßen Roboter vom Science Slam anzuschauen. \n\n\n\nAch\, es gibt noch mehr zu sehen\, vom “ungebauten Hamburg” bis zum Abendbrot mit Grillen im Bergedorfer Schlosspark\, mit Konzerten und Mitmachaktionen in dem einen oder anderen Hamburger Museum. Vielleicht sogar mal wieder die Kunsthalle aufsuchen oder ein kleineres Museum in meinem Stadtteil. Lasst euch die Chance auf einen wundervollen Abend nicht entgehen. \n\n\n\nLange Nacht der Museen Hamburg 2026\n\n\n\nDatum: Samstag\, 18. April 2026Zeit: 18:00 bis 1:00 UhrTeilnehmende Häuser: 53 Museen\, Ausstellungshäuser und GedenkorteTicket regulär: 18 EuroTicket ermäßigt: 12 EuroUnter 18 Jahre: 0 Euro \n\n\n\nFür Kinder kostenlos\n\n\n\nKinder und Jugendliche unter 18 Jahren können in diesem Jahr erstmals kostenlos teilnehmen. Das 0-Euro-Ticket ist ab Mitte März online oder vor Ort in den Museen erhältlich. \n\n\n\nVon Museum zu Museum\n\n\n\nDas Ticket ist gleichzeitig dein ÖPNV-Ticket. Es beinhaltet die kostenfreie Nutzung des HVV (Ringe A–F) am Veranstaltungstag von 16:00 bis 6:00 Uhr am Folgetag sowie des Lange-Nacht-Bus-Shuttles. Außerdem ist die Nutzung der Historischen S-Bahn zwischen Altona und Bergedorf sowie des Barkassen-Shuttles vom Anleger Sandtorhöft zum Anleger Bremer Kai inklusive. \n\n\n\nTickets erhältlich: online sowie in den teilnehmenden Museen! \n\n\n\nLNDM 2026: Teilnehmende Museen \n\n\n\n\nAchilles-Stiftung Glasmuseum\n\n\n\nAltonaer Museum\n\n\n\nArchäologisches Museum Hamburg und Stadtmuseum Harburg\n\n\n\nAstronomiepark Hamburger Sternwarte\n\n\n\nAuswanderermuseum BallinStadt\n\n\n\nBargheer Museum\n\n\n\nBergedorf Museum\n\n\n\nBergedorfer Mühle\n\n\n\nBotschaft der Wildtiere\n\n\n\nCap San Diego\n\n\n\nDeichtorhallen Hamburg\n\n\n\nDeutsches Hafenmuseum (im Aufbau) – Standort Schuppen 50A\n\n\n\nDeutsches Maler- und Lackierer-Museum\n\n\n\nDeutsches Zollmuseum\n\n\n\nDeutsches Zusatzstoffmuseum\n\n\n\nelectrum – Das Museum der Elektrizität\n\n\n\nErnst Barlach Haus\n\n\n\nFC St. Pauli-Museum\n\n\n\nFreie Akademie der Künste in Hamburg\n\n\n\nGedenkstätte Bullenhuser Damm\n\n\n\nGeschichtsort Stadthaus\n\n\n\nHamburger Genossenschafts-Museum\n\n\n\nHamburger Kunsthalle\n\n\n\nHelmut-Schmidt-Forum\n\n\n\nHSV-Museum\n\n\n\nInternationales Maritimes Museum Hamburg\n\n\n\nJenisch Haus\n\n\n\nKaffeemuseum Burg\n\n\n\nKL!CK Kindermuseum Hamburg\n\n\n\nKomponistenQuartier Hamburg\n\n\n\nKunsthaus Hamburg\n\n\n\nKunstverein Harburger Bahnhof\n\n\n\nKunstverein in Hamburg\n\n\n\nKZ-Gedenkstätte Neuengamme\n\n\n\nMahnmal St. Nikolai\n\n\n\nMedizinhistorisches Museum Hamburg\n\n\n\nMONTBLANC HAUS\n\n\n\nMuseum am Rothenbaum. Kulturen und Künste der Welt (MARKK)\n\n\n\nMuseum der Arbeit\n\n\n\nMuseum der Natur Hamburg – Geologie\n\n\n\nMuseum der Natur Hamburg – Mineralogie\n\n\n\nMuseum der Natur Hamburg – Zoologie\n\n\n\nMuseum für Kunst und Gewerbe Hamburg\n\n\n\nMuseumsschiff RICKMER RICKMERS\n\n\n\nPolizeimuseum Hamburg\n\n\n\nSammlung Falckenberg / Phoenix Fabrikhallen\n\n\n\nSpeicherstadtmuseum\n\n\n\nStiftung Hamburg Maritim\n\n\n\nUniversitätsmuseum Hamburg\n\n\n\nUrbaneo – Junges Architektur Zentrum\n\n\n\nvor—gänge. museum für alternative stadt\n\n\n\nWasserkunst Elbinsel Kaltehofe\n\n\n\nZaubermuseum Bellachini
URL:https://sommer-in-hamburg.de/event/lange-nacht-der-museen-2026/
CATEGORIES:Lange Nächte
ATTACH;FMTTYPE=image/jpeg:https://sommer-in-hamburg.de/wp-content/uploads/2026/03/lndm-hamburg-2026.jpg
END:VEVENT
BEGIN:VEVENT
DTSTART;TZID=Europe/Berlin:20260419T100000
DTEND;TZID=Europe/Berlin:20260419T170000
DTSTAMP:20260419T163240
CREATED:20260414T203214Z
LAST-MODIFIED:20260415T150836Z
UID:70861-1776592800-1776618000@sommer-in-hamburg.de
SUMMARY:Grosser Flohmarkt Altona am 19. April 2026
DESCRIPTION:Am Sonntag\, 19. April 2026\, findet in der Neuen Großen Bergstraße in Hamburg?Altona wieder ein großer Flohmarkt statt. Die Straße zwischen Bahnhof Altona und IKEA wird von etwa 10:00 bis 17:00 Uhr zur Fußgängerzone und wird mit rund 150 Ständen gesäumt. Organisiert wird der Markt von der Flohmarkt?Reihe „Flohmarkt Neue Große Bergstraße“\, die regelmäßig im Monat stattfindet und jedes Mal eine Mischung aus privaten Verkäuferinnen und Verkäufern sowie kleineren Gewerbetreibenden anlockt. \n\n\n\nDie Stände bieten vor allem Vintage?Mode\, Secondhand?Kleidung\, Bücher\, Möbel\, Dekoartikel\, Plattensammlungen und allerlei Kuriositäten. Damit ist der Markt ideal\, wenn du nach individuellen Schätzen\, Retro?Fundstücken oder einfach nach einem gemütlichen Samstagvormittag voller Stöbern suchst. Wer nach dem Shoppen Hunger bekommt\, kommt hier ebenfalls auf seine Kosten: Immer wieder gibt es Streetfood?Stände mit internationaler Küche\, sodass der Flohmarkt auch ein kleiner kulinarischer Ausflug wird. \n\n\n\nFür Besucherinnen und Besucher ist der Eintritt kostenlos. Parkplätze sind in der Straße selbst nur begrenzt verfügbar\, da die Neue Große Bergstraße als Marktplatz gesperrt wird. Sinnvoll ist daher\, mit öffentlichen Verkehrsmitteln anzureisen – der S? und U?Bahnhof Altona liegt direkt am nördlichen Ende der Einkaufsstraße und bietet einen kurzen Fußweg zum Markt. Wer mit dem Auto kommt\, kann auf die Parkflächen rund um den IKEA?Campus oder in der näheren Umgebung ausweichen. \n\n\n\nWer selbst als Verkäuferin oder Verkäufer mitmachen möchte\, muss sich vorab anmelden und Standmeter buchen – Standplätze sind nicht frei verfügbar\, sondern werden über die Veranstalterseite organisiert. Dort werden auch Details zu Mietpreisen\, Aufbauzeiten und Regeln (z.?B. für Kleiderstangen\, Warentransport oder Verbot bestimmter Artikel) veröffentlicht. \n\n\n\nAlles in allem ist der Flohmarkt in der Neuen Großen Bergstraße ein empfehlenswerter Termin für April 2026\, wenn du in Hamburg nach einem entspannten\, lebendigen Markt mit viel Trödel\, gemischter Kundschaft und einem Hauch Festival?Atmosphäre gesucht hast.
URL:https://sommer-in-hamburg.de/event/flohmarkt-altona-april-2026/
LOCATION:Große Bergstraße\, Große Bergstraße / Jessenstraße\, Hamburg\, 22767\, Germany
CATEGORIES:Flohmarkt
ATTACH;FMTTYPE=image/jpeg:https://sommer-in-hamburg.de/wp-content/uploads/2026/04/flohmarkt-altona.jpg
END:VEVENT
END:VCALENDAR